BEGIN:VCALENDAR
VERSION:2.0
PRODID:-//L&#039;Essentiel-le - ECPv6.15.20//NONSGML v1.0//EN
CALSCALE:GREGORIAN
METHOD:PUBLISH
X-WR-CALNAME:L&#039;Essentiel-le
X-ORIGINAL-URL:https://lessentiel-le.fr
X-WR-CALDESC:Évènements pour L&#039;Essentiel-le
REFRESH-INTERVAL;VALUE=DURATION:PT1H
X-Robots-Tag:noindex
X-PUBLISHED-TTL:PT1H
BEGIN:VTIMEZONE
TZID:Europe/Paris
BEGIN:DAYLIGHT
TZOFFSETFROM:+0100
TZOFFSETTO:+0200
TZNAME:CEST
DTSTART:20210328T010000
END:DAYLIGHT
BEGIN:STANDARD
TZOFFSETFROM:+0200
TZOFFSETTO:+0100
TZNAME:CET
DTSTART:20211031T010000
END:STANDARD
BEGIN:DAYLIGHT
TZOFFSETFROM:+0100
TZOFFSETTO:+0200
TZNAME:CEST
DTSTART:20220327T010000
END:DAYLIGHT
BEGIN:STANDARD
TZOFFSETFROM:+0200
TZOFFSETTO:+0100
TZNAME:CET
DTSTART:20221030T010000
END:STANDARD
BEGIN:DAYLIGHT
TZOFFSETFROM:+0100
TZOFFSETTO:+0200
TZNAME:CEST
DTSTART:20230326T010000
END:DAYLIGHT
BEGIN:STANDARD
TZOFFSETFROM:+0200
TZOFFSETTO:+0100
TZNAME:CET
DTSTART:20231029T010000
END:STANDARD
END:VTIMEZONE
BEGIN:VEVENT
DTSTART;TZID=Europe/Paris:20220805T200000
DTEND;TZID=Europe/Paris:20220805T220000
DTSTAMP:20260420T013036
CREATED:20220811T074801Z
LAST-MODIFIED:20220811T074801Z
UID:202-1659729600-1659736800@lessentiel-le.fr
SUMMARY:Ciné-piscine
DESCRIPTION:Ciné-Piscine à la Piscine des Grésilles\, 4 rue Marius Chanteur\, 21000 DIJON. \nPrécédé d’un cours de gym aquatique gratuit et ouvert à tous. \nDès 21h\, projections de courts-métrages en lien avec le quartier des Grésilles.
URL:https://lessentiel-le.fr/event/cine-piscine/
END:VEVENT
END:VCALENDAR