BEGIN:VCALENDAR
VERSION:2.0
PRODID:-//L&#039;Essentiel-le - ECPv6.15.20//NONSGML v1.0//EN
CALSCALE:GREGORIAN
METHOD:PUBLISH
X-WR-CALNAME:L&#039;Essentiel-le
X-ORIGINAL-URL:https://lessentiel-le.fr
X-WR-CALDESC:Évènements pour L&#039;Essentiel-le
REFRESH-INTERVAL;VALUE=DURATION:PT1H
X-Robots-Tag:noindex
X-PUBLISHED-TTL:PT1H
BEGIN:VTIMEZONE
TZID:Europe/Paris
BEGIN:DAYLIGHT
TZOFFSETFROM:+0100
TZOFFSETTO:+0200
TZNAME:CEST
DTSTART:20210328T010000
END:DAYLIGHT
BEGIN:STANDARD
TZOFFSETFROM:+0200
TZOFFSETTO:+0100
TZNAME:CET
DTSTART:20211031T010000
END:STANDARD
BEGIN:DAYLIGHT
TZOFFSETFROM:+0100
TZOFFSETTO:+0200
TZNAME:CEST
DTSTART:20220327T010000
END:DAYLIGHT
BEGIN:STANDARD
TZOFFSETFROM:+0200
TZOFFSETTO:+0100
TZNAME:CET
DTSTART:20221030T010000
END:STANDARD
BEGIN:DAYLIGHT
TZOFFSETFROM:+0100
TZOFFSETTO:+0200
TZNAME:CEST
DTSTART:20230326T010000
END:DAYLIGHT
BEGIN:STANDARD
TZOFFSETFROM:+0200
TZOFFSETTO:+0100
TZNAME:CET
DTSTART:20231029T010000
END:STANDARD
END:VTIMEZONE
BEGIN:VEVENT
DTSTART;TZID=Europe/Paris:20221203T190000
DTEND;TZID=Europe/Paris:20221203T233000
DTSTAMP:20260419T192306
CREATED:20221129T102856Z
LAST-MODIFIED:20221129T102856Z
UID:286-1670094000-1670110200@lessentiel-le.fr
SUMMARY:Cabaret Oriental
DESCRIPTION:
URL:https://lessentiel-le.fr/event/cabaret-oriental/
LOCATION:Maison Castelnau\, 11 rue Castelnau\, DIJON\, 21000\, France
END:VEVENT
END:VCALENDAR